BEGIN:VCALENDAR
X-WR-TIMEZONE;VALUE=TEXT:Europe/London
VERSION:2.0
CALSCALE:GREGORIAN
BEGIN:VEVENT
UID:b48beed5-c18a-4d83-b015-f60ead1be225@techdiary
DTSTAMP:20200525T103749                                     
URL:https://www.techdiary.co.uk/event/b48beed5-c18a-4d83-b015-f60ead1be225
DTSTART:20200528T190000
DTEND:20200528T200000

SUMMARY:Datacentre Migration Success
DESCRIPTION:Tips on how to make sure you migrations to Azure are a success. Presented by Sarah Lean. (Price: FREE)
LOCATION:Online (remote)
END:VEVENT
END:VCALENDAR
