BEGIN:VCALENDAR
X-WR-TIMEZONE;VALUE=TEXT:Europe/London
VERSION:2.0
CALSCALE:GREGORIAN
BEGIN:VEVENT
UID:b2f89156-5f2c-4de2-be7e-545ee933a7f1@techdiary
DTSTAMP:20230316T170635                                     
URL:https://www.techdiary.co.uk/event/b2f89156-5f2c-4de2-be7e-545ee933a7f1
DTSTART:20230328T190000
DTEND:20230328T213000

SUMMARY:March
DESCRIPTION:&quot;How to move from Manual Testing to Automated Testing with Postman&quot; (Arlemi Turpault) and &quot;Microsoft &amp; AI&quot; (Peter Bull) (Price: FREE)
LOCATION:Online (remote)
END:VEVENT
END:VCALENDAR
