BEGIN:VCALENDAR
X-WR-TIMEZONE;VALUE=TEXT:Europe/London
VERSION:2.0
CALSCALE:GREGORIAN
BEGIN:VEVENT
UID:b0e3e29b-832c-45ab-9d4d-79914640af5a@techdiary
DTSTAMP:20201018T223731                                     
URL:https://www.techdiary.co.uk/event/b0e3e29b-832c-45ab-9d4d-79914640af5a
DTSTART:20201112T103000
DTEND:20201112T143000

SUMMARY:Award Showcase
DESCRIPTION:Find out about our recently funded research projects and to explore next steps for digital justice research (Price: FREE)
LOCATION:Online (remote)
END:VEVENT
END:VCALENDAR
