BEGIN:VCALENDAR
X-WR-TIMEZONE;VALUE=TEXT:Europe/London
VERSION:2.0
CALSCALE:GREGORIAN
BEGIN:VEVENT
UID:b07e06a3-28b1-4a28-b8e4-a11b2d802fef@techdiary
DTSTAMP:20210629T090508                                     
URL:https://www.techdiary.co.uk/event/b07e06a3-28b1-4a28-b8e4-a11b2d802fef
DTSTART:20210714T130000
DTEND:20210714T140000

SUMMARY:WiS: Mind the Gap- Taking Career Risks and Embracing Change
DESCRIPTION:Taking career risks can be uncomfortable\, but can bring many benefits. Join us to hear about these and how you can take safe career risks. (Price: FREE)
LOCATION:Online (remote)
END:VEVENT
END:VCALENDAR
