BEGIN:VCALENDAR
X-WR-TIMEZONE;VALUE=TEXT:Europe/London
VERSION:2.0
CALSCALE:GREGORIAN
BEGIN:VEVENT
UID:af3b511b-1de0-46a0-8ce5-7bef92dd1d14@techdiary
DTSTAMP:20170612T165647                                     
URL:https://www.techdiary.co.uk/event/af3b511b-1de0-46a0-8ce5-7bef92dd1d14
DTSTART:20170615T183000
DTEND:20170615T183000

SUMMARY:DevOps Transitions
DESCRIPTION:The technical and cultural changes faced embracing DevOps by the squads at Skybet International. (Price: FREE)
LOCATION:Campus North\, Sunco House\, 5 Carliol Square\, Newcastle Upon Tyne\, NE1 6UF
END:VEVENT
END:VCALENDAR
