BEGIN:VCALENDAR
X-WR-TIMEZONE;VALUE=TEXT:Europe/London
VERSION:2.0
CALSCALE:GREGORIAN
BEGIN:VEVENT
UID:aea515fd-d22d-4aef-b4e2-460e7cacc745@techdiary
DTSTAMP:20190219T125952                                     
URL:https://www.techdiary.co.uk/event/aea515fd-d22d-4aef-b4e2-460e7cacc745
DTSTART:20190221T183000
DTEND:20190221T203000

SUMMARY:DRYing up Infrastructure as Code and CI/CD Pipelines
DESCRIPTION:Joey Connor presents. (Price: FREE)
LOCATION:Accenture\, Cobalt Business Park\, 1 Quick Silver Way\, Newcastle upon Tyne\, NE27 0QQ
END:VEVENT
END:VCALENDAR
