BEGIN:VCALENDAR
X-WR-TIMEZONE;VALUE=TEXT:Europe/London
VERSION:2.0
CALSCALE:GREGORIAN
BEGIN:VEVENT
UID:ae0c1f9c-821b-4b58-b27e-a1846e2bb074@techdiary
DTSTAMP:20170104T103549                                     
URL:https://www.techdiary.co.uk/event/ae0c1f9c-821b-4b58-b27e-a1846e2bb074
DTSTART:20170119T183000
DTEND:20170119T183000

SUMMARY:Dokku and Amazon Lambda
DESCRIPTION:Steve Hobbs will talk about Dokku\, Mike Shutlar will talk about Amazon Lambda. (Price: FREE)
LOCATION:Campus North\, Sunco House\, 5 Carliol Square\, Newcastle Upon Tyne\, NE1 6UF
END:VEVENT
END:VCALENDAR
