BEGIN:VCALENDAR
X-WR-TIMEZONE;VALUE=TEXT:Europe/London
VERSION:2.0
CALSCALE:GREGORIAN
BEGIN:VEVENT
UID:ad0e7b01-f704-4698-a925-63e87228b754@techdiary
DTSTAMP:20160105T121232                                     
URL:https://www.techdiary.co.uk/event/ad0e7b01-f704-4698-a925-63e87228b754
DTSTART:20131111T180000
DTEND:20131111T210000

SUMMARY:Moltin Launch Party
DESCRIPTION:To celebrate the launch of Moltin (a cloud e-commerce platform)\, developers\, designers and agencies are invited to join them for a night of people\, conversation and free drinks. (Price: FREE)
LOCATION:The Town Wall\, Pink Lane\, Newcastle upon Tyne\, NE1 5HX
END:VEVENT
END:VCALENDAR
