BEGIN:VCALENDAR
X-WR-TIMEZONE;VALUE=TEXT:Europe/London
VERSION:2.0
CALSCALE:GREGORIAN
BEGIN:VEVENT
UID:abde3933-bbb6-4c7b-9578-aea5adde5218@techdiary
DTSTAMP:20160902T125049                                     
URL:https://www.techdiary.co.uk/event/abde3933-bbb6-4c7b-9578-aea5adde5218
DTSTART:20160915T183000
DTEND:20160915T183000

SUMMARY:Introduction to &quot;Infrastructure as Code&quot;
DESCRIPTION:&quot;An Introduction to Infrastructure as Code (and why it is important to DevOps)&quot;\, with discussion. (Price: FREE)
LOCATION:Classroom\, Campus North\, Sunco House\, 5 Carliol Square\, Newcastle Upon Tyne\, NE1 6UF
END:VEVENT
END:VCALENDAR
