BEGIN:VCALENDAR
X-WR-TIMEZONE;VALUE=TEXT:Europe/London
VERSION:2.0
CALSCALE:GREGORIAN
BEGIN:VEVENT
UID:a5bc3398-21b2-406b-9258-666eddfb5cbb@techdiary
DTSTAMP:20210518T115939                                     
URL:https://www.techdiary.co.uk/event/a5bc3398-21b2-406b-9258-666eddfb5cbb
DTSTART:20210526T150000
DTEND:20210526T160000

SUMMARY:How snowboarding helps me keep innovating in my work life
DESCRIPTION:Karl Dickman\, Senior Product Manager at DWP Digital\, will focus on how snowboarding and product management look worlds apart on paper\, however innovation plays a huge part in both worlds. (Price: FREE)
LOCATION:Online (remote)
END:VEVENT
END:VCALENDAR
