BEGIN:VCALENDAR
X-WR-TIMEZONE;VALUE=TEXT:Europe/London
VERSION:2.0
CALSCALE:GREGORIAN
BEGIN:VEVENT
UID:a57edf3f-89b0-46d3-aceb-b8a3611daec4@techdiary
DTSTAMP:20190624T143704                                     
URL:https://www.techdiary.co.uk/event/a57edf3f-89b0-46d3-aceb-b8a3611daec4
DTSTART:20190708T173000
DTEND:20190708T193000

SUMMARY:Technology Requirements for the Modern Workforce
DESCRIPTION:Presented by Atlas Cloud. Covering performance\, security\, and technology in remote working. (Price: FREE / £24)
LOCATION:KPMG Offices\, Quayside House 110\, Newcastle upon Tyne. NE1 3DX
END:VEVENT
END:VCALENDAR
