BEGIN:VCALENDAR
X-WR-TIMEZONE;VALUE=TEXT:Europe/London
VERSION:2.0
CALSCALE:GREGORIAN
BEGIN:VEVENT
UID:a55dc20b-266c-4f6c-bd64-1a0ecb0e11ea@techdiary
DTSTAMP:20160424T030524                                     
URL:https://www.techdiary.co.uk/event/a55dc20b-266c-4f6c-bd64-1a0ecb0e11ea
DTSTART:20160317T183000
DTEND:20160317T183000

SUMMARY:DevOps North East: Lean &amp; Orchestration
DESCRIPTION:C.A.L.M.S. (Culture\, Automation\, Lean\, Measurement\, Sharing) - the key DevOps values but what do we mean by Lean? =0D=0A=Orchestration - what tools do you need to &quot;orchestrate&quot; the various moving parts in a DevOps pipeline? (Price: FREE)
LOCATION:NCFE. Q6 Quorum Business Park. Benton Lane. Newcastle upon Tyne. NE12 8BT
END:VEVENT
END:VCALENDAR
