BEGIN:VCALENDAR
X-WR-TIMEZONE;VALUE=TEXT:Europe/London
VERSION:2.0
CALSCALE:GREGORIAN
BEGIN:VEVENT
UID:a52498e7-4e32-4e59-8aa0-be19b84d3276@techdiary
DTSTAMP:20200211T141714                                     
URL:https://www.techdiary.co.uk/event/a52498e7-4e32-4e59-8aa0-be19b84d3276
DTSTART:20200213T183000
DTEND:20200213T203000

SUMMARY:Serverless or not serverless\, that is the question
DESCRIPTION:&quot;Serverless Development at Grid Smarter Cities&quot; (Dan Pudwell) and &quot;DevOps with Legacy Applications: A new hope\, or just more severs in the cloud?&quot; (Phil Harle). (Price: FREE)
LOCATION:DXC.technology. Silver Fox Way. Newcastle Upon Tyne
END:VEVENT
END:VCALENDAR
