BEGIN:VCALENDAR
X-WR-TIMEZONE;VALUE=TEXT:Europe/London
VERSION:2.0
CALSCALE:GREGORIAN
BEGIN:VEVENT
UID:a22b0c93-70bd-4be4-a6e1-f9d7f8ea55d9@techdiary
DTSTAMP:20220922T092308                                     
URL:https://www.techdiary.co.uk/event/a22b0c93-70bd-4be4-a6e1-f9d7f8ea55d9
DTSTART:20221123T170000
DTEND:20221123T180000

SUMMARY:November
DESCRIPTION:Ginny Moench (Date scaffolding for tracking daily... fill in the blank)\, Lorna Brown (Speed Tipping)\, Mark Bowles (Data Stories) (Price: FREE)
LOCATION:Online (remote)
END:VEVENT
END:VCALENDAR
