BEGIN:VCALENDAR
X-WR-TIMEZONE;VALUE=TEXT:Europe/London
VERSION:2.0
CALSCALE:GREGORIAN
BEGIN:VEVENT
UID:a17cdb11-4109-4ed0-92e6-200c86ab39e1@techdiary
DTSTAMP:20170228T141756                                     
URL:https://www.techdiary.co.uk/event/a17cdb11-4109-4ed0-92e6-200c86ab39e1
DTSTART:20170313T173000
DTEND:20170313T193000

SUMMARY:DynamoNet March -  NISDI Update
DESCRIPTION:Find out how the new National Institute for Smart Data Innovation (NISDI) will bring together industry\, the public sector and world-leading academics to develop the skills\, ideas and resources needed to exploit the opportunities offered by the explosion in digital data. (Price: FREE / £24)
LOCATION:The Core\, Science Central\, Bath Lane\, Newcastle upon Tyne\, NE4 5TF
END:VEVENT
END:VCALENDAR
