BEGIN:VCALENDAR
X-WR-TIMEZONE;VALUE=TEXT:Europe/London
VERSION:2.0
CALSCALE:GREGORIAN
BEGIN:VEVENT
UID:a095ba13-ae67-4dee-9793-2189e10b03c5@techdiary
DTSTAMP:20160403T230143                                     
URL:https://www.techdiary.co.uk/event/a095ba13-ae67-4dee-9793-2189e10b03c5
DTSTART:20160203T173000
DTEND:20160203T193000

SUMMARY:DynamoNet: Skills
DESCRIPTION:This event will focus on Skills and include an update on the status of the new University Technical College (UTC) &#039;North East Futures&#039; and other key developments in the area of skills in IT &amp; Tech. (Price: FREE / £24)
LOCATION:UKI Accenture Workplace Solutions. 15a\, 1 Quicksilver Way. Cobalt Business Park. NE27 0QQ
END:VEVENT
END:VCALENDAR
