BEGIN:VCALENDAR
X-WR-TIMEZONE;VALUE=TEXT:Europe/London
VERSION:2.0
CALSCALE:GREGORIAN
BEGIN:VEVENT
UID:9f50f5b8-c970-40c2-b11f-d3a8564d7f30@techdiary
DTSTAMP:20230103T114832                                     
URL:https://www.techdiary.co.uk/event/9f50f5b8-c970-40c2-b11f-d3a8564d7f30
DTSTART:20230125T090000
DTEND:20230125T110000

SUMMARY:Dynamo and Sunderland Software City Information Event
DESCRIPTION:Hear about Dynamo&#039;s focus areas for the next year and beyond (open to everyone including non-Dynamo members) (Price: FREE)
LOCATION:Proto\, Abbott&#039;s Hill\, Baltic Business Quarter\, Gateshead\, NE8 3DF
END:VEVENT
END:VCALENDAR
