BEGIN:VCALENDAR
X-WR-TIMEZONE;VALUE=TEXT:Europe/London
VERSION:2.0
CALSCALE:GREGORIAN
BEGIN:VEVENT
UID:9e4548eb-93d4-430e-9fe5-5e58da757200@techdiary
DTSTAMP:20181214T151926                                     
URL:https://www.techdiary.co.uk/event/9e4548eb-93d4-430e-9fe5-5e58da757200
DTSTART:20190114T173000
DTEND:20190114T193000

SUMMARY:How Emerging Tech Factors in Different Sectors
DESCRIPTION:Panel discussion\, chaired by Rachel Peacock\, with representatives from the Care sector\, Immersive Tech\, AI and Retail. (Price: FREE / £24)
LOCATION:Proto\, Abbott&#039;s Hill\, Baltic Business Quarter\, Gateshead\, NE8 3DF
END:VEVENT
END:VCALENDAR
