BEGIN:VCALENDAR
X-WR-TIMEZONE;VALUE=TEXT:Europe/London
VERSION:2.0
CALSCALE:GREGORIAN
BEGIN:VEVENT
UID:9d64c71e-592f-4e3f-aa1a-da5a820b136e@techdiary
DTSTAMP:20191118T140134                                     
URL:https://www.techdiary.co.uk/event/9d64c71e-592f-4e3f-aa1a-da5a820b136e
DTSTART:20191206T083000
DTEND:20191206T113000

SUMMARY:Pecha Kucha 2019
DESCRIPTION:15 speakers\, 20 slides x 20 seconds. (Price: FREE)
LOCATION:Proto\, Abbott&#039;s Hill\, Baltic Business Quarter\, Gateshead\, NE8 3DF
END:VEVENT
END:VCALENDAR
