BEGIN:VCALENDAR
X-WR-TIMEZONE;VALUE=TEXT:Europe/London
VERSION:2.0
CALSCALE:GREGORIAN
BEGIN:VEVENT
UID:9d11d0f5-318d-45af-a959-7abf9c137e1f@techdiary
DTSTAMP:20191216T145222                                     
URL:https://www.techdiary.co.uk/event/9d11d0f5-318d-45af-a959-7abf9c137e1f
DTSTART:20191217T180000
DTEND:20191217T200000

SUMMARY:Testing quiz
DESCRIPTION: (Price: FREE)
LOCATION:The Town Wall\, Pink Lane\, Newcastle upon Tyne\, NE1 5HX
END:VEVENT
END:VCALENDAR
