BEGIN:VCALENDAR
X-WR-TIMEZONE;VALUE=TEXT:Europe/London
VERSION:2.0
CALSCALE:GREGORIAN
BEGIN:VEVENT
UID:9c07610c-f1b3-4a79-bbb0-1b25ac1867db@techdiary
DTSTAMP:20200810T121117                                     
URL:https://www.techdiary.co.uk/event/9c07610c-f1b3-4a79-bbb0-1b25ac1867db
DTSTART:20210318T190000
DTEND:20210318T230000

SUMMARY:Dinner 2021
DESCRIPTION:For Dynamo Members. Guest talk from Gail Gallie (Price: £108)
LOCATION:BALTIC Centre for Contemporary Art\, River Terrace\, South Shore Road\, Gateshead\, NE8 3BA
END:VEVENT
END:VCALENDAR
