BEGIN:VCALENDAR
X-WR-TIMEZONE;VALUE=TEXT:Europe/London
VERSION:2.0
CALSCALE:GREGORIAN
BEGIN:VEVENT
UID:9ade7fc6-714f-4d1c-9126-a8cccf294f9f@techdiary
DTSTAMP:20170412T134240                                     
URL:https://www.techdiary.co.uk/event/9ade7fc6-714f-4d1c-9126-a8cccf294f9f
DTSTART:20170508T173000
DTEND:20170508T193000

SUMMARY:Exporting North East Digital Excellence in Architecture and Lifecycle Management
DESCRIPTION:Presentations from Peter Barker\, Mark Clasper and Glenn Tate. (Price: FREE / £24)
LOCATION:Ryder Architecture\, Cooper’s Studios\, Westgate Road\, Newcastle upon Tyne\, NE1 3NN
END:VEVENT
END:VCALENDAR
