BEGIN:VCALENDAR
X-WR-TIMEZONE;VALUE=TEXT:Europe/London
VERSION:2.0
CALSCALE:GREGORIAN
BEGIN:VEVENT
UID:992cc06c-2935-4b8b-bd9b-16595026e529@techdiary
DTSTAMP:20200429T095408                                     
URL:https://www.techdiary.co.uk/event/992cc06c-2935-4b8b-bd9b-16595026e529
DTSTART:20200501T110000
DTEND:20200501T120000

SUMMARY:Barefoot Programming Workshop
DESCRIPTION: (Price: FREE)
LOCATION:Online (remote)
END:VEVENT
END:VCALENDAR
