BEGIN:VCALENDAR
X-WR-TIMEZONE;VALUE=TEXT:Europe/London
VERSION:2.0
CALSCALE:GREGORIAN
BEGIN:VEVENT
UID:95f6950a-e21b-468b-8cce-ce66143ccd3a@techdiary
DTSTAMP:20210518T120303                                     
URL:https://www.techdiary.co.uk/event/95f6950a-e21b-468b-8cce-ce66143ccd3a
DTSTART:20210526T093000
DTEND:20210526T143000

SUMMARY:Design Sprint: Population Health Management
DESCRIPTION:Dynamo’s Health &amp; Social Care Tech Cluster would like to invite innovative SMEs\, VCSEs\, academics and Health &amp; Social Care professionals to get involved in their Population Health Management Design Sprint\, (Price: FREE)
LOCATION:Online (remote)
END:VEVENT
END:VCALENDAR
