BEGIN:VCALENDAR
X-WR-TIMEZONE;VALUE=TEXT:Europe/London
VERSION:2.0
CALSCALE:GREGORIAN
BEGIN:VEVENT
UID:95dea0f9-57e4-4d1c-9181-3cc39806252a@techdiary
DTSTAMP:20210707T180742                                     
URL:https://www.techdiary.co.uk/event/95dea0f9-57e4-4d1c-9181-3cc39806252a
DTSTART:20210722T140000
DTEND:20210722T150000

SUMMARY:A Cyber Security Analysis of Blockchain
DESCRIPTION:Learn how to carry out a risk analysis and see some use cases of how blockchain is being used to share data while maintaining cyber security. (Price: FREE)
LOCATION:Online (remote)
END:VEVENT
END:VCALENDAR
