BEGIN:VCALENDAR
X-WR-TIMEZONE;VALUE=TEXT:Europe/London
VERSION:2.0
CALSCALE:GREGORIAN
BEGIN:VEVENT
UID:91cda623-0c08-435b-af9f-579bd338902b@techdiary
DTSTAMP:20200130T184529                                     
URL:https://www.techdiary.co.uk/event/91cda623-0c08-435b-af9f-579bd338902b
DTSTART:20200225T083000
DTEND:20200225T130000

SUMMARY:Building Our Manifesto For The Future (Workshop)
DESCRIPTION:Digital Union is committed to producing a new Manifesto that outlines the areas to focus on\, with input from members. (Price: FREE)
LOCATION:Newcastle Helix\, The Core\, The Core Newcastle upon Tyne
END:VEVENT
END:VCALENDAR
