BEGIN:VCALENDAR
X-WR-TIMEZONE;VALUE=TEXT:Europe/London
VERSION:2.0
CALSCALE:GREGORIAN
BEGIN:VEVENT
UID:909c13f1-402f-41bd-a2d8-89036d945033@techdiary
DTSTAMP:20180912T145028                                     
URL:https://www.techdiary.co.uk/event/909c13f1-402f-41bd-a2d8-89036d945033
DTSTART:20181012T083000
DTEND:20181012T113000

SUMMARY:Emerging Technologies
DESCRIPTION:A chance to understand and meet the people behind emerging technologies. (Price: FREE)
LOCATION:Proto\, Abbott&#039;s Hill\, Baltic Business Quarter\, Gateshead\, NE8 3DF
END:VEVENT
END:VCALENDAR
