BEGIN:VCALENDAR
X-WR-TIMEZONE;VALUE=TEXT:Europe/London
VERSION:2.0
CALSCALE:GREGORIAN
BEGIN:VEVENT
UID:8ff48c9c-ad2d-4355-b50b-337903691ba6@techdiary
DTSTAMP:20220909T131556                                     
URL:https://www.techdiary.co.uk/event/8ff48c9c-ad2d-4355-b50b-337903691ba6
DTSTART:20221020T183000
DTEND:20221020T203000

SUMMARY:Metaphors\, monitoring &amp; metrics
DESCRIPTION:Tom Hoyland presents (Price: FREE)
LOCATION:Online (remote)
END:VEVENT
END:VCALENDAR
