BEGIN:VCALENDAR
X-WR-TIMEZONE;VALUE=TEXT:Europe/London
VERSION:2.0
CALSCALE:GREGORIAN
BEGIN:VEVENT
UID:8f67bc9b-25c5-4c6b-a9e7-128ef2a0c5ce@techdiary
DTSTAMP:20201202T205616                                     
URL:https://www.techdiary.co.uk/event/8f67bc9b-25c5-4c6b-a9e7-128ef2a0c5ce
DTSTART:20201208T180000
DTEND:20201208T200000

SUMMARY:Monads in Haskell - how programs do effects\, eh?
DESCRIPTION: (Price: FREE)
LOCATION:Online (remote)
END:VEVENT
END:VCALENDAR
