BEGIN:VCALENDAR
X-WR-TIMEZONE;VALUE=TEXT:Europe/London
VERSION:2.0
CALSCALE:GREGORIAN
BEGIN:VEVENT
UID:8ee06eef-bb12-4a4b-a074-96b2c5f5619e@techdiary
DTSTAMP:20210617T093852                                     
URL:https://www.techdiary.co.uk/event/8ee06eef-bb12-4a4b-a074-96b2c5f5619e
DTSTART:20210916T100000
DTEND:20210916T130000

SUMMARY:#CyberFest 21 - Cyber Security and Fraud
DESCRIPTION:Cyber security and fraud - what is happening? What you can do about it? What are the ethics of your action or inaction? (Price: FREE)
LOCATION:Online (remote)
END:VEVENT
END:VCALENDAR
