BEGIN:VCALENDAR
X-WR-TIMEZONE;VALUE=TEXT:Europe/London
VERSION:2.0
CALSCALE:GREGORIAN
BEGIN:VEVENT
UID:8d88f0be-d8fd-420d-b165-96f302b0e8d7@techdiary
DTSTAMP:20181214T151722                                     
URL:https://www.techdiary.co.uk/event/8d88f0be-d8fd-420d-b165-96f302b0e8d7
DTSTART:20190314T190000
DTEND:20190314T230000

SUMMARY:Dinner 2019
DESCRIPTION:Member’s dinner\, with guest speaker\, Bruce Daisley. (Price: £108)
LOCATION:BALTIC Centre for Contemporary Art\, River Terrace\, South Shore Road\, Gateshead\, NE8 3BA
END:VEVENT
END:VCALENDAR
