BEGIN:VCALENDAR
X-WR-TIMEZONE;VALUE=TEXT:Europe/London
VERSION:2.0
CALSCALE:GREGORIAN
BEGIN:VEVENT
UID:893a9a8e-983a-4be4-b2d9-1ba5799f5fb5@techdiary
DTSTAMP:20171012T131022                                     
URL:https://www.techdiary.co.uk/event/893a9a8e-983a-4be4-b2d9-1ba5799f5fb5
DTSTART:20171019T190000
DTEND:20171019T233000

SUMMARY:Dynamites 17
DESCRIPTION:The North East&#039;s IT and Technology Awards. (Price: £106.80)
LOCATION:Newcastle Civic Centre\, Barras Bridge \, Newcastle upon Tyne\, NE1 8QH
END:VEVENT
END:VCALENDAR
