BEGIN:VCALENDAR
X-WR-TIMEZONE;VALUE=TEXT:Europe/London
VERSION:2.0
CALSCALE:GREGORIAN
BEGIN:VEVENT
UID:881494d2-ddb7-4c36-ba39-ee80071ab717@techdiary
DTSTAMP:20220719T164256                                     
URL:https://www.techdiary.co.uk/event/881494d2-ddb7-4c36-ba39-ee80071ab717
DTSTART:20221110T180000
DTEND:20221110T230000

SUMMARY:Dynamites 22
DESCRIPTION:Showcasing the region’s hotbed of talent and shining a spotlight on North East organisations. (Price: £112.80 - 138)
LOCATION:Newcastle Civic Centre\, Barras Bridge
END:VEVENT
END:VCALENDAR
