BEGIN:VCALENDAR
X-WR-TIMEZONE;VALUE=TEXT:Europe/London
VERSION:2.0
CALSCALE:GREGORIAN
BEGIN:VEVENT
UID:874e8a4a-f8bc-43c6-a990-6d3fff19e15e@techdiary
DTSTAMP:20220530T145307                                     
URL:https://www.techdiary.co.uk/event/874e8a4a-f8bc-43c6-a990-6d3fff19e15e
DTSTART:20220608T170000
DTEND:20220608T170000

SUMMARY:Spring Demo Day
DESCRIPTION: (Price: FREE)
LOCATION:Online (remote)
END:VEVENT
END:VCALENDAR
