BEGIN:VCALENDAR
X-WR-TIMEZONE;VALUE=TEXT:Europe/London
VERSION:2.0
CALSCALE:GREGORIAN
BEGIN:VEVENT
UID:85d01805-b00a-45c0-a843-5c75bb18e112@techdiary
DTSTAMP:20200807T113439                                     
URL:https://www.techdiary.co.uk/event/85d01805-b00a-45c0-a843-5c75bb18e112
DTSTART:20200813T173000
DTEND:20200813T183000

SUMMARY:Chatbot engines with Google Dialogflow
DESCRIPTION:Phil Johnson talks about integrating a chatbot into Facebook Messenger. (Price: FREE)
LOCATION:Online (remote)
END:VEVENT
END:VCALENDAR
