BEGIN:VCALENDAR
X-WR-TIMEZONE;VALUE=TEXT:Europe/London
VERSION:2.0
CALSCALE:GREGORIAN
BEGIN:VEVENT
UID:847b9172-0b83-499f-a026-ad3e2d91004f@techdiary
DTSTAMP:20200429T095457                                     
URL:https://www.techdiary.co.uk/event/847b9172-0b83-499f-a026-ad3e2d91004f
DTSTART:20200507T160000
DTEND:20200507T170000

SUMMARY:CAS Middlesborough Primary Community Meeting
DESCRIPTION: (Price: FREE)
LOCATION:Online (remote)
END:VEVENT
END:VCALENDAR
