BEGIN:VCALENDAR
X-WR-TIMEZONE;VALUE=TEXT:Europe/London
VERSION:2.0
CALSCALE:GREGORIAN
BEGIN:VEVENT
UID:82f9793f-183b-446a-bdcb-f00805b97456@techdiary
DTSTAMP:20220916T170734                                     
URL:https://www.techdiary.co.uk/event/82f9793f-183b-446a-bdcb-f00805b97456
DTSTART:20221004T180000
DTEND:20221004T210000

SUMMARY:No-Code for Good
DESCRIPTION:Showcases of no-code solutions both big and small with chances to ask questions from those at the frontline. Hosted by Tom Watson (Price: FREE)
LOCATION:Online (remote)
END:VEVENT
END:VCALENDAR
