BEGIN:VCALENDAR
X-WR-TIMEZONE;VALUE=TEXT:Europe/London
VERSION:2.0
CALSCALE:GREGORIAN
BEGIN:VEVENT
UID:81a9d420-f687-4b62-8c9e-3a7114d2087e@techdiary
DTSTAMP:20211005T151905                                     
URL:https://www.techdiary.co.uk/event/81a9d420-f687-4b62-8c9e-3a7114d2087e
DTSTART:20211019T100000
DTEND:20211019T100000

SUMMARY:Winning the war on talent
DESCRIPTION:An expert panel to discuss the talent challenges faced by businesses operating in the highly competitive tech sector. (Price: FREE)
LOCATION:Online (remote)
END:VEVENT
END:VCALENDAR
