BEGIN:VCALENDAR
X-WR-TIMEZONE;VALUE=TEXT:Europe/London
VERSION:2.0
CALSCALE:GREGORIAN
BEGIN:VEVENT
UID:8072efee-da27-4f61-811f-4850bfec203f@techdiary
DTSTAMP:20180130T185546                                     
URL:https://www.techdiary.co.uk/event/8072efee-da27-4f61-811f-4850bfec203f
DTSTART:20180208T190000
DTEND:20180208T220000

SUMMARY:aNEmates
DESCRIPTION:Alex Collier shares insight from his experience writing animation. (Price: FREE)
LOCATION:The Cinema Room\, The Town Wall\, Pink Lane\, Newcastle upon Tyne\, NE1 5HX
END:VEVENT
END:VCALENDAR
