BEGIN:VCALENDAR
X-WR-TIMEZONE;VALUE=TEXT:Europe/London
VERSION:2.0
CALSCALE:GREGORIAN
BEGIN:VEVENT
UID:7fa266f8-196f-4fa1-9edf-64a4fa0355a7@techdiary
DTSTAMP:20170428T155941                                     
URL:https://www.techdiary.co.uk/event/7fa266f8-196f-4fa1-9edf-64a4fa0355a7
DTSTART:20170612T173000
DTEND:20170612T193000

SUMMARY:DynamoNet June -  Attracting Talented People to your Business
DESCRIPTION:Sue Ormerod will share some insights into fine tuning planning\, preparing for interviews\, interviewing and welcoming new recruits. (Price: FREE / £24)
LOCATION:Nigel Wright\, Lloyds Court\, 78 Grey Street\, Newcastle upon Tyne\, NE1 6AF
END:VEVENT
END:VCALENDAR
