BEGIN:VCALENDAR
X-WR-TIMEZONE;VALUE=TEXT:Europe/London
VERSION:2.0
CALSCALE:GREGORIAN
BEGIN:VEVENT
UID:7de1446e-e3a5-416f-b59e-4a10a872f803@techdiary
DTSTAMP:20220208T102651                                     
URL:https://www.techdiary.co.uk/event/7de1446e-e3a5-416f-b59e-4a10a872f803
DTSTART:20220210T093000
DTEND:20220210T103000

SUMMARY:Build The Future: Higher and Degree Apprenticeships at the University of Sunderland
DESCRIPTION:Join us in celebrating a year of success for apprentices and employers who have embarked on a higher or degree apprenticeship at the University. (Price: FREE)
LOCATION:Online (remote)
END:VEVENT
END:VCALENDAR
