BEGIN:VCALENDAR
X-WR-TIMEZONE;VALUE=TEXT:Europe/London
VERSION:2.0
CALSCALE:GREGORIAN
BEGIN:VEVENT
UID:7d22726d-60b9-44f4-81aa-af2a78e72290@techdiary
DTSTAMP:20160114T201351                                     
URL:https://www.techdiary.co.uk/event/7d22726d-60b9-44f4-81aa-af2a78e72290
DTSTART:20151015T173000
DTEND:20151015T200000

SUMMARY:DynamoNet: Performance Horizon
DESCRIPTION:Find out about the latest Dynamo activity and have a look around the Performance Horizon offices. Network with peers and colleagues from across the North East&#039;s IT &amp; Tech Industry. (Price: FREE)
LOCATION:8th Floor\, West One Forth Banks. NE1 3PA
END:VEVENT
END:VCALENDAR
