BEGIN:VCALENDAR
X-WR-TIMEZONE;VALUE=TEXT:Europe/London
VERSION:2.0
CALSCALE:GREGORIAN
BEGIN:VEVENT
UID:7ce5dd51-5b89-452e-8292-f699436012fe@techdiary
DTSTAMP:20210602T092325                                     
URL:https://www.techdiary.co.uk/event/7ce5dd51-5b89-452e-8292-f699436012fe
DTSTART:20210607T000000
DTEND:20210610T000000

SUMMARY:Social Justice in the Digital Economy: Summer Webinar Series
DESCRIPTION:What can we learn about changing values of/for social justice by considering four different areas of the digital economy? Join us for one or more of our week of events to discuss this critical topic. (Price: FREE)
LOCATION:Online (remote)
END:VEVENT
END:VCALENDAR
