BEGIN:VCALENDAR
X-WR-TIMEZONE;VALUE=TEXT:Europe/London
VERSION:2.0
CALSCALE:GREGORIAN
BEGIN:VEVENT
UID:7cc2986b-8e06-4fc4-8c0b-f1d300184179@techdiary
DTSTAMP:20210714T143511                                     
URL:https://www.techdiary.co.uk/event/7cc2986b-8e06-4fc4-8c0b-f1d300184179
DTSTART:20210909T113000
DTEND:20210909T130000

SUMMARY:Creating your Hybrid Working Strategy
DESCRIPTION:Interactive workshop designed to encourage discussion\, capture key themes around challenges and obstacles associated with hybrid working. (Price: FREE)
LOCATION:Online (remote)
END:VEVENT
END:VCALENDAR
