BEGIN:VCALENDAR
X-WR-TIMEZONE;VALUE=TEXT:Europe/London
VERSION:2.0
CALSCALE:GREGORIAN
BEGIN:VEVENT
UID:7beb41b5-598b-40ac-99e5-f5c5a0c6378e@techdiary
DTSTAMP:20160530T054454                                     
URL:https://www.techdiary.co.uk/event/7beb41b5-598b-40ac-99e5-f5c5a0c6378e
DTSTART:20160523T193000
DTEND:20160523T213000

SUMMARY:Galaxy Quest
DESCRIPTION:Two talks\, &quot;How to Make a Galaxy?&quot; (Tom Theuns) and &quot;Colour by Numbers: Observing Virtual Galaxies&quot; (James Trayford). (Price: £4)
LOCATION:The Town Wall\, Pink Lane\, Newcastle upon Tyne\, NE1 5HX
END:VEVENT
END:VCALENDAR
