BEGIN:VCALENDAR
X-WR-TIMEZONE;VALUE=TEXT:Europe/London
VERSION:2.0
CALSCALE:GREGORIAN
BEGIN:VEVENT
UID:789d05b5-95fc-43da-bf0f-b8ccac32c1af@techdiary
DTSTAMP:20220323T165024                                     
URL:https://www.techdiary.co.uk/event/789d05b5-95fc-43da-bf0f-b8ccac32c1af
DTSTART:20220411T183000
DTEND:20220411T200000

SUMMARY:More Testable Code with the Hexagonal Architecture
DESCRIPTION:Presented by Ted M. Young (Price: FREE)
LOCATION:Online (remote)
END:VEVENT
END:VCALENDAR
