BEGIN:VCALENDAR
X-WR-TIMEZONE;VALUE=TEXT:Europe/London
VERSION:2.0
CALSCALE:GREGORIAN
BEGIN:VEVENT
UID:784ca574-edc9-4a44-9b6e-8f43319ff676@techdiary
DTSTAMP:20221128T221336                                     
URL:https://www.techdiary.co.uk/event/784ca574-edc9-4a44-9b6e-8f43319ff676
DTSTART:20221214T163000
DTEND:20221214T180000

SUMMARY:Creating reports with SearchKit
DESCRIPTION:Oliver Gibson presents (Price: FREE)
LOCATION:Online (remote)
END:VEVENT
END:VCALENDAR
