BEGIN:VCALENDAR
X-WR-TIMEZONE;VALUE=TEXT:Europe/London
VERSION:2.0
CALSCALE:GREGORIAN
BEGIN:VEVENT
UID:783bc4d5-0a03-484b-8a60-851fa566753b@techdiary
DTSTAMP:20160105T121232                                     
URL:https://www.techdiary.co.uk/event/783bc4d5-0a03-484b-8a60-851fa566753b
DTSTART:20140306T190000
DTEND:20140306T220000

SUMMARY:Givey: the Journey to the Crowd
DESCRIPTION:If you run or work with start-ups\, are exploring investment\, or are simply interested in meeting the Givey CEO\, then they would love you to join them for this event. (Price: FREE)
LOCATION:The Town Wall\, Pink Lane\, Newcastle upon Tyne\, NE1 5HX
END:VEVENT
END:VCALENDAR
