BEGIN:VCALENDAR
X-WR-TIMEZONE;VALUE=TEXT:Europe/London
VERSION:2.0
CALSCALE:GREGORIAN
BEGIN:VEVENT
UID:76df8a8d-83c0-405d-937f-1a82ce1e3eda@techdiary
DTSTAMP:20160113T171847                                     
URL:https://www.techdiary.co.uk/event/76df8a8d-83c0-405d-937f-1a82ce1e3eda
DTSTART:20150311T173000
DTEND:20150311T193000

SUMMARY:DynamoNet: First look at the new Digital Catapult Centre
DESCRIPTION:This event will give attendees the opportunity to have a first look around the new &quot;Digital Catapult Centre North East &amp; Tees Valley&quot; and find out about its exciting plans. (Price: FREE)
LOCATION:The Software Centre\, Tavistock Place\, Sunderland\, SR1 1PB
END:VEVENT
END:VCALENDAR
