BEGIN:VCALENDAR
X-WR-TIMEZONE;VALUE=TEXT:Europe/London
VERSION:2.0
CALSCALE:GREGORIAN
BEGIN:VEVENT
UID:766cc54c-1a2c-4dd1-935e-623bf30ca8f4@techdiary
DTSTAMP:20170206T112652                                     
URL:https://www.techdiary.co.uk/event/766cc54c-1a2c-4dd1-935e-623bf30ca8f4
DTSTART:20170216T183000
DTEND:20170216T183000

SUMMARY:Meetup
DESCRIPTION:Tombola will talk about a build solution between Terraform and Amazon&#039;s AWS Cloud Formation. Also covering a war story of dealing with special snowflake servers on why they are a bad thing (and how DSC can help). (Price: FREE)
LOCATION:Campus North\, Sunco House\, 5 Carliol Square\, Newcastle Upon Tyne\, NE1 6UF
END:VEVENT
END:VCALENDAR
